BEGIN:VCALENDAR
VERSION:2.0
PRODID:-//Contratero//ES
CALSCALE:GREGORIAN
METHOD:PUBLISH
BEGIN:VEVENT
UID:107/2025 SM PAS@contratero.es
DTSTAMP:20260420T152945Z
DTSTART:20260219T235959
DTEND:20260220T005959
SUMMARY:Cierre: Adquisición de diferentes licencias y componentes 
DESCRIPTION:Adquisición de diferentes licencias y componentes software destinados al Departamento de Desarrollo del Área de Innovación y Provincia Digital de la Diputación de Cáceres\\n\\nOrganismo: Presidencia de la Diputación Provincial de Cáceres\\n\\nVer en Contratero: https://contratero.es/contracts/107/2025 SM PAS
URL:https://contratero.es/contracts/107/2025 SM PAS
STATUS:CONFIRMED
BEGIN:VALARM
TRIGGER:-P1D
ACTION:DISPLAY
DESCRIPTION:Recordatorio: Adquisición de diferentes lice
END:VALARM
END:VEVENT
END:VCALENDAR